BEGIN:VCALENDAR
VERSION:2.0
PRODID:-//wp-events-plugin.com//6.5//EN
TZID:America/Chicago
X-WR-TIMEZONE:America/Chicago
BEGIN:VEVENT
UID:75-5939@chicago.swea.org
DTSTART;TZID=America/Chicago:20240522T130000
DTEND;TZID=America/Chicago:20240522T150000
DTSTAMP:20240513T143841Z
URL:https://chicago.swea.org/events/promenad-och-fika-i-lincoln-park/
SUMMARY:Promenad och Fika i Lincoln Park
DESCRIPTION:Följ med på promenad i området kring Lincoln Park inne i Chi
 cago. Väder\, vind och vi som är med och planerar vart vi skall gå och 
 hur långt. För de som vill så avslutar vi promenaden på fiket Vanille 
 Patisserie på 2108 N Clark St. Anmäl dig genom evite så får du också 
 veta var vi möts upp inför promenaden.
END:VEVENT
BEGIN:VTIMEZONE
TZID:America/Chicago
X-LIC-LOCATION:America/Chicago
BEGIN:DAYLIGHT
DTSTART:20240310T030000
TZOFFSETFROM:-0600
TZOFFSETTO:-0500
TZNAME:CDT
END:DAYLIGHT
END:VTIMEZONE
END:VCALENDAR